BEGIN:VCALENDAR
VERSION:2.0
PRODID:-//Clubs SA - ECPv6.15.20//NONSGML v1.0//EN
CALSCALE:GREGORIAN
METHOD:PUBLISH
X-WR-CALNAME:Clubs SA
X-ORIGINAL-URL:https://clubssa.com.au
X-WR-CALDESC:Events for Clubs SA
REFRESH-INTERVAL;VALUE=DURATION:PT1H
X-Robots-Tag:noindex
X-PUBLISHED-TTL:PT1H
BEGIN:VTIMEZONE
TZID:Australia/Adelaide
BEGIN:STANDARD
TZOFFSETFROM:+1030
TZOFFSETTO:+0930
TZNAME:ACST
DTSTART:20240406T163000
END:STANDARD
BEGIN:DAYLIGHT
TZOFFSETFROM:+0930
TZOFFSETTO:+1030
TZNAME:ACDT
DTSTART:20241005T163000
END:DAYLIGHT
BEGIN:STANDARD
TZOFFSETFROM:+1030
TZOFFSETTO:+0930
TZNAME:ACST
DTSTART:20250405T163000
END:STANDARD
BEGIN:DAYLIGHT
TZOFFSETFROM:+0930
TZOFFSETTO:+1030
TZNAME:ACDT
DTSTART:20251004T163000
END:DAYLIGHT
BEGIN:STANDARD
TZOFFSETFROM:+1030
TZOFFSETTO:+0930
TZNAME:ACST
DTSTART:20260404T163000
END:STANDARD
BEGIN:DAYLIGHT
TZOFFSETFROM:+0930
TZOFFSETTO:+1030
TZNAME:ACDT
DTSTART:20261003T163000
END:DAYLIGHT
END:VTIMEZONE
BEGIN:VEVENT
DTSTART;TZID=Australia/Adelaide:20251011T180000
DTEND;TZID=Australia/Adelaide:20251011T235900
DTSTAMP:20260419T225823
CREATED:20250714T022157Z
LAST-MODIFIED:20250725T042541Z
UID:10000001-1760205600-1760227140@clubssa.com.au
SUMMARY:Clubs SA Clubs And Community Awards 2025
DESCRIPTION:The 2025 Clubs SA Clubs & Community Awards celebrate the outstanding work of South Australian Licensed Clubs and the vital role they play in their communities. \n​These awards recognise excellence across community service initiatives\, hospitality operations\, and the individuals who go above and beyond to support and lead their Clubs. With 24 award categories\, including the prestigious Club of the Year titles\, there’s an opportunity for every Club to be acknowledged.
URL:http://www.clubssa.com.au/clubs-sa-clubs-and-community-awards/
LOCATION:Morphett Room\, Morphettville Racecourse
CATEGORIES:Awards
ATTACH;FMTTYPE=image/jpeg:https://clubssa.com.au/wp-content/uploads/2024/10/CLUBS-SA-CLUBS-AND-COMMUNITY-AWARDS-1.jpg
END:VEVENT
BEGIN:VEVENT
DTSTART;VALUE=DATE:20251015
DTEND;VALUE=DATE:20251016
DTSTAMP:20260419T225823
CREATED:20250725T050816Z
LAST-MODIFIED:20250725T050855Z
UID:10000012-1760515200-1760547600@clubssa.com.au
SUMMARY:Breakthrough Mental Health First Aid Training (In Person)
DESCRIPTION:Mental Health First Aid teaches participants how to provide initial support to individuals who are developing a mental illness or experiencing a mental health crisis. Participants will learn how to use a practical\, skills-based action plan\, learn the skills to recognise and respond to someone experiencing a mental health problem or mental health crisis\, until professional help is received or the crisis resolves. Free to Clubs SA Members. \nREGISTER HERE
URL:https://clubssa.com.au/event/breakthrough-mental-health-first-aid-training-in-person/2025-10-15/
LOCATION:Breakthrough Mental Health Foundation\, 39 Charles Street\, Norwood\, SA\, Australia
CATEGORIES:Breakthrough Mental Health Training
ATTACH;FMTTYPE=image/png:https://clubssa.com.au/wp-content/uploads/2025/07/Screenshot-2025-07-25-at-2.34.46-pm-scaled.png
END:VEVENT
BEGIN:VEVENT
DTSTART;VALUE=DATE:20251016
DTEND;VALUE=DATE:20251017
DTSTAMP:20260419T225823
CREATED:20250725T050816Z
LAST-MODIFIED:20250725T050855Z
UID:10000013-1760601600-1760634000@clubssa.com.au
SUMMARY:Breakthrough Mental Health First Aid Training (In Person)
DESCRIPTION:Mental Health First Aid teaches participants how to provide initial support to individuals who are developing a mental illness or experiencing a mental health crisis. Participants will learn how to use a practical\, skills-based action plan\, learn the skills to recognise and respond to someone experiencing a mental health problem or mental health crisis\, until professional help is received or the crisis resolves. Free to Clubs SA Members. \nREGISTER HERE
URL:https://clubssa.com.au/event/breakthrough-mental-health-first-aid-training-in-person/2025-10-16/
LOCATION:Breakthrough Mental Health Foundation\, 39 Charles Street\, Norwood\, SA\, Australia
CATEGORIES:Breakthrough Mental Health Training
ATTACH;FMTTYPE=image/png:https://clubssa.com.au/wp-content/uploads/2025/07/Screenshot-2025-07-25-at-2.34.46-pm-scaled.png
END:VEVENT
BEGIN:VEVENT
DTSTART;TZID=Australia/Adelaide:20251030T100000
DTEND;TZID=Australia/Adelaide:20251030T140000
DTSTAMP:20260419T225823
CREATED:20250829T050013Z
LAST-MODIFIED:20250829T050013Z
UID:10000023-1761818400-1761832800@clubssa.com.au
SUMMARY:Clubs SA South East Roadshow
DESCRIPTION:We are thrilled to invite you to the South East Roadshow\, a fantastic opportunity to connect with the Clubs SA team\, gain valuable insights\, and equip your club with the knowledge to thrive in 2025. \nYou do not need to be a Clubs SA Member to attend this event.
URL:https://clubssa.com.au/south-east-roadshow/#new_tab
LOCATION:Mount Gambier Community RSL\, 16 Sturt St\, Mount Gambier\, SA\, 5290\, Australia
ATTACH;FMTTYPE=image/png:https://clubssa.com.au/wp-content/uploads/2025/08/Roadshow-South-East-scaled.png
END:VEVENT
END:VCALENDAR