BEGIN:VCALENDAR
VERSION:2.0
PRODID:-//Clubs SA - ECPv6.15.20//NONSGML v1.0//EN
CALSCALE:GREGORIAN
METHOD:PUBLISH
X-ORIGINAL-URL:https://clubssa.com.au
X-WR-CALDESC:Events for Clubs SA
REFRESH-INTERVAL;VALUE=DURATION:PT1H
X-Robots-Tag:noindex
X-PUBLISHED-TTL:PT1H
BEGIN:VTIMEZONE
TZID:Australia/Adelaide
BEGIN:STANDARD
TZOFFSETFROM:+1030
TZOFFSETTO:+0930
TZNAME:ACST
DTSTART:20250405T163000
END:STANDARD
BEGIN:DAYLIGHT
TZOFFSETFROM:+0930
TZOFFSETTO:+1030
TZNAME:ACDT
DTSTART:20251004T163000
END:DAYLIGHT
BEGIN:STANDARD
TZOFFSETFROM:+1030
TZOFFSETTO:+0930
TZNAME:ACST
DTSTART:20260404T163000
END:STANDARD
BEGIN:DAYLIGHT
TZOFFSETFROM:+0930
TZOFFSETTO:+1030
TZNAME:ACDT
DTSTART:20261003T163000
END:DAYLIGHT
BEGIN:STANDARD
TZOFFSETFROM:+1030
TZOFFSETTO:+0930
TZNAME:ACST
DTSTART:20270403T163000
END:STANDARD
BEGIN:DAYLIGHT
TZOFFSETFROM:+0930
TZOFFSETTO:+1030
TZNAME:ACDT
DTSTART:20271002T163000
END:DAYLIGHT
END:VTIMEZONE
BEGIN:VEVENT
DTSTART;VALUE=DATE:20260602
DTEND;VALUE=DATE:20260603
DTSTAMP:20260419T214708
CREATED:20251124T025324Z
LAST-MODIFIED:20251215T070753Z
UID:10000030-1780358400-1780444799@clubssa.com.au
SUMMARY:Club Leaders Summit
DESCRIPTION:Clubs SA is pleased to present the inaugural Club Leaders Summit\, a new\, exclusive event designed for club leaders across South Australia’s club sector. \nThis summit has been developed to support club leaders as they plan for 2026 and beyond\, providing valuable insights into emerging trends\, innovation and future-focused strategies. The event will deliver practical and strategic content aimed at driving strong business outcomes and positioning clubs for long-term success.
URL:https://clubssa.com.au/club-leaders-summit/#new_tab
LOCATION:Coopers Brewery\, 230 Regency Road\, Regency Park\, SA\, 5010
ATTACH;FMTTYPE=image/png:https://clubssa.com.au/wp-content/uploads/2025/12/Club-Leaders-Summit-Banner.png
END:VEVENT
BEGIN:VEVENT
DTSTART;TZID=Australia/Adelaide:20260610T183000
DTEND;TZID=Australia/Adelaide:20260610T210000
DTSTAMP:20260419T214708
CREATED:20260122T223033Z
LAST-MODIFIED:20260122T223813Z
UID:10000049-1781116200-1781125200@clubssa.com.au
SUMMARY:Sponsorship Management Webinar - Club Development Program Training
DESCRIPTION:Having a diversity of income sources\, including sponsorship\, is critical to the success and sustainability of our community and sporting clubs. The reality is that finding new sponsors\, delivering value to them\, and retaining those sponsors is not getting any easier. This workshop will give you clear strategies and practical tools to grow and sustain sponsorship revenue to help your Club achieve its goals.
URL:https://clubssa.com.au/sponsorship-management/#new_tab
CATEGORIES:Club Development Program Training
ATTACH;FMTTYPE=image/png:https://clubssa.com.au/wp-content/uploads/2024/10/Sponsorship-Management-Facebook-banner-2.png
LOCATION:
END:VEVENT
BEGIN:VEVENT
DTSTART;TZID=Australia/Adelaide:20261114T180000
DTEND;TZID=Australia/Adelaide:20261114T233000
DTSTAMP:20260419T214708
CREATED:20251212T052105Z
LAST-MODIFIED:20260311T004809Z
UID:10000033-1794679200-1794699000@clubssa.com.au
SUMMARY:Clubs SA Clubs and Community Awards 2026
DESCRIPTION:The Clubs SA Clubs & Community Awards return in 2026 to celebrate the outstanding contributions of licensed and non-licensed clubs across South Australia.
URL:https://clubssa.com.au/2026-clubs-sa-clubs-and-community-awards/#new_tab
LOCATION:Adelaide Oval\, War Memorial Drive\, North Adelaide\, SA\, 5006\, Australia
CATEGORIES:Awards
ATTACH;FMTTYPE=image/jpeg:https://clubssa.com.au/wp-content/uploads/2025/10/FrankieTheCreative-AdelaidePhotographer-ClubsSAClubsandCommunityAwards2025-436.jpg
END:VEVENT
END:VCALENDAR